BEGIN:VCALENDAR
VERSION:2.0
PRODID:floktu.com
X-PUBLISHED-TTL:P1W
BEGIN:VEVENT
UID:FloktuEvent30210@floktu.com
DTSTART:20220720T000000Z
SEQUENCE:0
TRANSP:OPAQUE
DTEND:20220720T040000Z
LOCATION:Surat\, \, Surat\, Gujarat
SUMMARY:Most Stunning And Amazing Surat Escort
DESCRIPTION:Visit https://surat-escort-service.floktu.com for more informat
 ion.
DTSTAMP:20260420T171747Z
END:VEVENT
END:VCALENDAR