BEGIN:VCALENDAR
VERSION:2.0
PRODID:floktu.com
X-WR-TIMEZONE:Australia/Sydney
X-PUBLISHED-TTL:P1W
BEGIN:VEVENT
UID:FloktuEvent30210@floktu.com
DTSTART;TZID=Australia/Sydney:20220720T100000
SEQUENCE:0
TRANSP:OPAQUE
DTEND;TZID=Australia/Sydney:20220720T140000
LOCATION:Surat\, \, Surat\, Gujarat
SUMMARY:Most Stunning And Amazing Surat Escort
DESCRIPTION:Visit https://surat-escort-service.floktu.com for more informat
 ion.
DTSTAMP:20260420T170919Z
END:VEVENT
BEGIN:VTIMEZONE
TZID:Australia/Sydney
X-LIC-LOCATION:Australia/Sydney
END:VTIMEZONE
END:VCALENDAR